BEGIN:VCALENDAR
VERSION:2.0
PRODID:-//San Diego Womens Foundation - ECPv6.15.14//NONSGML v1.0//EN
CALSCALE:GREGORIAN
METHOD:PUBLISH
X-ORIGINAL-URL:https://www.sdwomensfoundation.org
X-WR-CALDESC:Events for San Diego Womens Foundation
REFRESH-INTERVAL;VALUE=DURATION:PT1H
X-Robots-Tag:noindex
X-PUBLISHED-TTL:PT1H
BEGIN:VTIMEZONE
TZID:America/Los_Angeles
BEGIN:DAYLIGHT
TZOFFSETFROM:-0800
TZOFFSETTO:-0700
TZNAME:PDT
DTSTART:20240310T100000
END:DAYLIGHT
BEGIN:STANDARD
TZOFFSETFROM:-0700
TZOFFSETTO:-0800
TZNAME:PST
DTSTART:20241103T090000
END:STANDARD
BEGIN:DAYLIGHT
TZOFFSETFROM:-0800
TZOFFSETTO:-0700
TZNAME:PDT
DTSTART:20250309T100000
END:DAYLIGHT
BEGIN:STANDARD
TZOFFSETFROM:-0700
TZOFFSETTO:-0800
TZNAME:PST
DTSTART:20251102T090000
END:STANDARD
BEGIN:DAYLIGHT
TZOFFSETFROM:-0800
TZOFFSETTO:-0700
TZNAME:PDT
DTSTART:20260308T100000
END:DAYLIGHT
BEGIN:STANDARD
TZOFFSETFROM:-0700
TZOFFSETTO:-0800
TZNAME:PST
DTSTART:20261101T090000
END:STANDARD
END:VTIMEZONE
BEGIN:VEVENT
DTSTART;TZID=America/Los_Angeles:20250602T120000
DTEND;TZID=America/Los_Angeles:20250602T130000
DTSTAMP:20260421T014327
CREATED:20241219T222829Z
LAST-MODIFIED:20241219T222829Z
UID:9607-1748865600-1748869200@www.sdwomensfoundation.org
SUMMARY:SDWF Programs Committee Meeting
DESCRIPTION:If you would like more information about the Programs Committee or would like to attend a committee meeting\, please contact Angela Fujii – afujii@sdfoundation.org
URL:https://www.sdwomensfoundation.org/event/sdwf-programs-committee-meeting-14/
LOCATION:Zoom Meeting
CATEGORIES:Committee Meetings
END:VEVENT
BEGIN:VEVENT
DTSTART;TZID=America/Los_Angeles:20250604T120000
DTEND;TZID=America/Los_Angeles:20250604T130000
DTSTAMP:20260421T014327
CREATED:20241219T222207Z
LAST-MODIFIED:20241219T222207Z
UID:9594-1749038400-1749042000@www.sdwomensfoundation.org
SUMMARY:SDWF Membership Committee Meeting
DESCRIPTION:If you would like more information about the Membership Committee or would like to attend a committee meeting\, please contact Ahtziri Ayala – aayala@sdfoundation.org
URL:https://www.sdwomensfoundation.org/event/sdwf-membership-committee-meeting-15/
LOCATION:Zoom Meeting
CATEGORIES:Committee Meetings
END:VEVENT
BEGIN:VEVENT
DTSTART;TZID=America/Los_Angeles:20250608T080000
DTEND;TZID=America/Los_Angeles:20250608T100000
DTSTAMP:20260421T014327
CREATED:20250515T200939Z
LAST-MODIFIED:20250515T201144Z
UID:9770-1749369600-1749376800@www.sdwomensfoundation.org
SUMMARY:SDWF Adventuring Philanthropists Hike
DESCRIPTION:Join us for the SDWF Adventuring Philanthropist Hike on June 8 at 8:00 AM! We’ll meet at the bathrooms in the center of Equestrian Circle\, where there’s plenty of parking available. This scenic 4.4-mile hike is a great way to connect with fellow SDWF members and enjoy the outdoors together. Be sure to wear shoes with good grip and bring plenty of water\, sunscreen\, and weather-appropriate clothing. \nPlease RSVP so we don’t leave anyone behind!
URL:https://www.sdwomensfoundation.org/event/sdwf-adventuring-philanthropists-hike-2/
LOCATION:Equestrian Circle Trailhead\, Equestrian Circle Trailhead\, Santee\, CA\, 92071\, United States
CATEGORIES:Upcoming Events
ATTACH;FMTTYPE=image/png:https://www.sdwomensfoundation.org/sdwf/wp-content/uploads/2025/05/AP-Hike-Facebook-Post-2160-×-1080-px.png
END:VEVENT
BEGIN:VEVENT
DTSTART;TZID=America/Los_Angeles:20250610T130000
DTEND;TZID=America/Los_Angeles:20250610T140000
DTSTAMP:20260421T014327
CREATED:20241219T215509Z
LAST-MODIFIED:20241219T215509Z
UID:9584-1749560400-1749564000@www.sdwomensfoundation.org
SUMMARY:SDWF DIG Committee Meeting
DESCRIPTION:If you would like more information about the Discovery\, Inquiry & Guidelines (DIG) Committee or would like to attend a committee meeting\, please contact Angela Fujii – afujii@sdfoundation.org
URL:https://www.sdwomensfoundation.org/event/sdwf-dig-committee-meeting-14/
LOCATION:Zoom Meeting
CATEGORIES:Committee Meetings
END:VEVENT
BEGIN:VEVENT
DTSTART;TZID=America/Los_Angeles:20250611T170000
DTEND;TZID=America/Los_Angeles:20250611T190000
DTSTAMP:20260421T014327
CREATED:20250508T181511Z
LAST-MODIFIED:20250508T181511Z
UID:9753-1749661200-1749668400@www.sdwomensfoundation.org
SUMMARY:Legacy In Action: SDWF 25th Annual Grants Celebration
DESCRIPTION:On this special night\, we will celebrate not only the incredible impact of our Community Partners\, but also 25 years of collective philanthropy through the San Diego Women’s Foundation. \nTogether\, we’ll award over $200\,000 in new grant funding to organizations working to reduce senior isolation and loneliness in San Diego County — continuing our long-standing commitment to building stronger\, more connected communities. \nJoin us as we honor the past\, celebrate the present\, and look ahead to a future filled with even greater impact. \nALL are welcome at this inspirational evening! \n5:00 – 5:45: Hosted cocktail hour \n5:45 – 7:00: Speaking program and grant awards \nFAQs \nDo I have to bring my printed ticket to the event? \nNo\, we will have your name on our registration lists. \nCan I purchase a ticket at the event? \nThis event will sell out in advance\, and you will not be able to purchase a ticket at the event. \nAre sponsorship opportunities still available? \nYes! Please contact Stephanie Cook at stephaniec@sdfoundation.org for sponsorship details.
URL:https://www.sdwomensfoundation.org/event/legacy-in-action-sdwf-25th-annual-grants-celebration/
LOCATION:Sanford Consortium\, 2880 Torrey Pines Scenic Drive\, La Jolla\, CA\, 92037\, United States
CATEGORIES:Upcoming Events
ATTACH;FMTTYPE=image/png:https://www.sdwomensfoundation.org/sdwf/wp-content/uploads/2025/05/Banner-for-25th-AGC-3.png
END:VEVENT
BEGIN:VEVENT
DTSTART;TZID=America/Los_Angeles:20250612T130000
DTEND;TZID=America/Los_Angeles:20250612T140000
DTSTAMP:20260421T014327
CREATED:20241219T214315Z
LAST-MODIFIED:20241219T214315Z
UID:9572-1749733200-1749736800@www.sdwomensfoundation.org
SUMMARY:SDWF Collaboration Committee Meeting
DESCRIPTION:If you would like more information about the Collaboration Committee or would like to attend a committee meeting\, please contact Angela Fujii – afujii@sdfoundation.org
URL:https://www.sdwomensfoundation.org/event/sdwf-collaboration-committee-meeting-18/
LOCATION:Zoom Meeting
CATEGORIES:Committee Meetings
END:VEVENT
END:VCALENDAR